BEGIN:VCALENDAR
VERSION:2.0
PRODID:-//The Cutting Board Academy - ECPv6.6.4.2//NONSGML v1.0//EN
CALSCALE:GREGORIAN
METHOD:PUBLISH
X-WR-CALNAME:The Cutting Board Academy
X-ORIGINAL-URL:https://cuttingboardacademy.org
X-WR-CALDESC:Events for The Cutting Board Academy
REFRESH-INTERVAL;VALUE=DURATION:PT1H
X-Robots-Tag:noindex
X-PUBLISHED-TTL:PT1H
BEGIN:VTIMEZONE
TZID:America/New_York
BEGIN:DAYLIGHT
TZOFFSETFROM:-0500
TZOFFSETTO:-0400
TZNAME:EDT
DTSTART:20220313T070000
END:DAYLIGHT
BEGIN:STANDARD
TZOFFSETFROM:-0400
TZOFFSETTO:-0500
TZNAME:EST
DTSTART:20221106T060000
END:STANDARD
BEGIN:DAYLIGHT
TZOFFSETFROM:-0500
TZOFFSETTO:-0400
TZNAME:EDT
DTSTART:20230312T070000
END:DAYLIGHT
BEGIN:STANDARD
TZOFFSETFROM:-0400
TZOFFSETTO:-0500
TZNAME:EST
DTSTART:20231105T060000
END:STANDARD
BEGIN:DAYLIGHT
TZOFFSETFROM:-0500
TZOFFSETTO:-0400
TZNAME:EDT
DTSTART:20240310T070000
END:DAYLIGHT
BEGIN:STANDARD
TZOFFSETFROM:-0400
TZOFFSETTO:-0500
TZNAME:EST
DTSTART:20241103T060000
END:STANDARD
END:VTIMEZONE
BEGIN:VEVENT
DTSTART;VALUE=DATE:20231220
DTEND;VALUE=DATE:20240106
DTSTAMP:20260419T203637
CREATED:20231210T121407Z
LAST-MODIFIED:20231210T121949Z
UID:37795-1703030400-1704499199@cuttingboardacademy.org
SUMMARY:HAPPY HOLIDAYS from THE CUTTING BOARD ACADEMY!!!
DESCRIPTION:
URL:https://cuttingboardacademy.org/event/happy_holidays/
CATEGORIES:EVENTS CALENDAR
END:VEVENT
BEGIN:VEVENT
DTSTART;TZID=America/New_York:20231219T120000
DTEND;TZID=America/New_York:20231219T140000
DTSTAMP:20260419T203637
CREATED:20231210T120852Z
LAST-MODIFIED:20231210T121318Z
UID:37793-1702987200-1702994400@cuttingboardacademy.org
SUMMARY:"Small Bites" Workshop with Silver Connections\, LLC
DESCRIPTION:Fats and Flavor
URL:https://cuttingboardacademy.org/event/workshopwithsilverconnectionsllc/
CATEGORIES:EVENTS CALENDAR
END:VEVENT
BEGIN:VEVENT
DTSTART;TZID=America/New_York:20231115T173000
DTEND;TZID=America/New_York:20231115T190000
DTSTAMP:20260419T203637
CREATED:20231115T023707Z
LAST-MODIFIED:20231115T023707Z
UID:37786-1700069400-1700074800@cuttingboardacademy.org
SUMMARY:Families in the Kitchen with PNC Fairfax Connections
DESCRIPTION:Join us as we discuss Diabetic Friendly Holiday Sides
URL:https://cuttingboardacademy.org/event/families-in-the-kitchen-with-pnc-fairfax-connections/
LOCATION:PNC Fairfax Connections\, 8220 Carnegie Avenue\, Cleveland\, OH\, 44104\, United States
END:VEVENT
BEGIN:VEVENT
DTSTART;TZID=America/New_York:20231025T173000
DTEND;TZID=America/New_York:20231025T190000
DTSTAMP:20260419T203637
CREATED:20230925T012639Z
LAST-MODIFIED:20230925T012814Z
UID:37767-1698255000-1698260400@cuttingboardacademy.org
SUMMARY:Families in the Kitchen with PNC Fairfax Connection and The Cutting Board Academy
DESCRIPTION:Topic: TBD
URL:https://cuttingboardacademy.org/event/cooking-live-with-pnc-fairfax-connection-and-the-cutting-board-academy-2-copy-2-copy-copy-copy-copy-copy-copy-copy-2-copy-2-copy-copy-copy-3-copy-copy/
LOCATION:PNC Fairfax Connections\, 8220 Carnegie Avenue\, Cleveland\, OH\, 44104\, United States
CATEGORIES:EVENTS CALENDAR
END:VEVENT
BEGIN:VEVENT
DTSTART;TZID=America/New_York:20230927T173000
DTEND;TZID=America/New_York:20230927T190000
DTSTAMP:20260419T203637
CREATED:20230925T010828Z
LAST-MODIFIED:20230925T011138Z
UID:37759-1695835800-1695841200@cuttingboardacademy.org
SUMMARY:Families in the Kitchen with PNC Fairfax Connection and The Cutting Board Academy
DESCRIPTION:Topic: Preserving the Harvest
URL:https://cuttingboardacademy.org/event/cooking-live-with-pnc-fairfax-connection-and-the-cutting-board-academy-2-copy-2-copy-copy-copy-copy-copy-copy-copy-2-copy-2-copy-copy-copy-3-copy/
LOCATION:PNC Fairfax Connections\, 8220 Carnegie Avenue\, Cleveland\, OH\, 44104\, United States
CATEGORIES:EVENTS CALENDAR
END:VEVENT
BEGIN:VEVENT
DTSTART;TZID=America/New_York:20230724T100000
DTEND;TZID=America/New_York:20230724T120000
DTSTAMP:20260419T203637
CREATED:20230925T011400Z
LAST-MODIFIED:20231031T002411Z
UID:37763-1690192800-1690200000@cuttingboardacademy.org
SUMMARY:You Had Me At "Churro" with The Girl Scouts of Northeast Ohio
DESCRIPTION:  \n 
URL:https://cuttingboardacademy.org/event/you-had-me-at-churro-with-the-girl-scouts-of-northeast-ohio-copy-3-copy-2-copy-copy-2-copy-2-copy-3-copy-copy-copy-copy-2-copy-copy-copy-copy-copy/
LOCATION:Camp Ledgewood\, 7047 Akron Peninsula Road\, Peninsula\, OH\, United States
CATEGORIES:EVENTS CALENDAR,The Girl Scouts of Northeast Ohio
END:VEVENT
BEGIN:VEVENT
DTSTART;TZID=America/New_York:20230717T100000
DTEND;TZID=America/New_York:20230717T120000
DTSTAMP:20260419T203637
CREATED:20230925T011121Z
LAST-MODIFIED:20230925T011457Z
UID:37761-1689588000-1689595200@cuttingboardacademy.org
SUMMARY:The Science of Ice Cream with The Girl Scouts of Northeast Ohio
DESCRIPTION:  \n 
URL:https://cuttingboardacademy.org/event/you-had-me-at-churro-with-the-girl-scouts-of-northeast-ohio-copy-3-copy-2-copy-copy-2-copy-2-copy-3-copy-copy-copy-copy-2-copy-copy-copy-copy/
LOCATION:Camp Ledgewood\, 7047 Akron Peninsula Road\, Peninsula\, OH\, United States
CATEGORIES:EVENTS CALENDAR,The Girl Scouts of Northeast Ohio
END:VEVENT
BEGIN:VEVENT
DTSTART;TZID=America/New_York:20230628T100000
DTEND;TZID=America/New_York:20230628T120000
DTSTAMP:20260419T203637
CREATED:20230925T011800Z
LAST-MODIFIED:20230925T012415Z
UID:37764-1687946400-1687953600@cuttingboardacademy.org
SUMMARY:Keep Calm and Make Pizza with Gear Up 2028
DESCRIPTION:Join Food Scientist and Chef Tiffani Sutton to create some delicious and nutritious snacks and meals like Pizza from scratch while performing some really cool Culinary Arts and Food Science labs. Please dress in closed toed\, slip proof shoes.
URL:https://cuttingboardacademy.org/event/keep-calm-and-make-pizza-with-the-girl-scouts-of-northeast-ohio-copy-3-copy-2/
CATEGORIES:The Girl Scouts of Northeast Ohio
END:VEVENT
BEGIN:VEVENT
DTSTART;TZID=America/New_York:20230626T100000
DTEND;TZID=America/New_York:20230626T120000
DTSTAMP:20260419T203637
CREATED:20230925T012420Z
LAST-MODIFIED:20230925T012532Z
UID:37766-1687773600-1687780800@cuttingboardacademy.org
SUMMARY:The Art and Science of Food with Gear Up 2028
DESCRIPTION:Join Food Scientist and Chef Tiffani Sutton to create some delicious and nutritious snacks and meals like Pizza from scratch while performing some really cool Culinary Arts and Food Science labs. Please dress in closed toed\, slip proof shoes.
URL:https://cuttingboardacademy.org/event/keep-calm-and-make-pizza-with-the-girl-scouts-of-northeast-ohio-copy-3-copy-2-copy/
CATEGORIES:The Girl Scouts of Northeast Ohio
END:VEVENT
BEGIN:VEVENT
DTSTART;TZID=America/New_York:20230427T120000
DTEND;TZID=America/New_York:20230427T140000
DTSTAMP:20260419T203637
CREATED:20230405T154308Z
LAST-MODIFIED:20230405T154755Z
UID:37715-1682596800-1682604000@cuttingboardacademy.org
SUMMARY:TCBA's Food Coaching End -of- Program Jamboree with Silver Connections\, LLC
DESCRIPTION:It’s a Celebration with the members of Silver Connections\, LLC.   Wrapping up the Food Coaching program with food\, music and prizes!!!
URL:https://cuttingboardacademy.org/event/cooking-live-with-pnc-fairfax-connection-and-the-cutting-board-academy-2-copy-2-copy-copy-copy-copy-copy-copy-copy-2-copy-2-copy-copy-copy-2-copy-copy-copy-copy-copy-copy-copy/
CATEGORIES:EVENTS CALENDAR
END:VEVENT
BEGIN:VEVENT
DTSTART;TZID=America/New_York:20230421T120000
DTEND;TZID=America/New_York:20230421T133000
DTSTAMP:20260419T203637
CREATED:20230405T155434Z
LAST-MODIFIED:20230405T155625Z
UID:37717-1682078400-1682083800@cuttingboardacademy.org
SUMMARY:Cooking LIVE Lunch N Learn Edition with PNC Fairfax Connection and The Cutting Board Academy  Copy
DESCRIPTION:Topic: Cooking Methods- Stir Frying
URL:https://cuttingboardacademy.org/event/cooking-live-with-pnc-fairfax-connection-and-the-cutting-board-academy-2-copy-2-copy-copy-copy-copy-copy-copy-copy-2-copy-2-copy-copy-copy-3/
LOCATION:Virtual Workshop– Web Ex\, OH\, United States
CATEGORIES:EVENTS CALENDAR
END:VEVENT
BEGIN:VEVENT
DTSTART;TZID=America/New_York:20230413T120000
DTEND;TZID=America/New_York:20230413T140000
DTSTAMP:20260419T203637
CREATED:20230405T154006Z
LAST-MODIFIED:20230405T154057Z
UID:37714-1681387200-1681394400@cuttingboardacademy.org
SUMMARY:TCBA's Food Coaching Program with Silver Connections\, LLC- Session #7
DESCRIPTION:Members of Silver Connections will take part in understanding more about managing chronic illnesses though Food preparation and Nutrition Education.
URL:https://cuttingboardacademy.org/event/cooking-live-with-pnc-fairfax-connection-and-the-cutting-board-academy-2-copy-2-copy-copy-copy-copy-copy-copy-copy-2-copy-2-copy-copy-copy-2-copy-copy-copy-copy-copy-copy/
CATEGORIES:EVENTS CALENDAR
END:VEVENT
BEGIN:VEVENT
DTSTART;TZID=America/New_York:20230330T120000
DTEND;TZID=America/New_York:20230330T140000
DTSTAMP:20260419T203637
CREATED:20230405T153834Z
LAST-MODIFIED:20230405T153920Z
UID:37713-1680177600-1680184800@cuttingboardacademy.org
SUMMARY:TCBA's Food Coaching Program with Silver Connections\, LLC- Session #6
DESCRIPTION:Members of Silver Connections will take part in understanding more about managing chronic illnesses though Food preparation and Nutrition Education.
URL:https://cuttingboardacademy.org/event/cooking-live-with-pnc-fairfax-connection-and-the-cutting-board-academy-2-copy-2-copy-copy-copy-copy-copy-copy-copy-2-copy-2-copy-copy-copy-2-copy-copy-copy-copy-copy/
CATEGORIES:EVENTS CALENDAR
END:VEVENT
BEGIN:VEVENT
DTSTART;TZID=America/New_York:20230323T120000
DTEND;TZID=America/New_York:20230323T140000
DTSTAMP:20260419T203637
CREATED:20230405T153617Z
LAST-MODIFIED:20230405T153710Z
UID:37712-1679572800-1679580000@cuttingboardacademy.org
SUMMARY:TCBA's Food Coaching Program with Silver Connections\, LLC- Session #5
DESCRIPTION:Members of Silver Connections will take part in understanding more about managing chronic illnesses though Food preparation and Nutrition Education.
URL:https://cuttingboardacademy.org/event/cooking-live-with-pnc-fairfax-connection-and-the-cutting-board-academy-2-copy-2-copy-copy-copy-copy-copy-copy-copy-2-copy-2-copy-copy-copy-2-copy-copy-copy-copy/
CATEGORIES:EVENTS CALENDAR
END:VEVENT
BEGIN:VEVENT
DTSTART;TZID=America/New_York:20230316T120000
DTEND;TZID=America/New_York:20230316T140000
DTSTAMP:20260419T203637
CREATED:20230405T153458Z
LAST-MODIFIED:20230405T153542Z
UID:37711-1678968000-1678975200@cuttingboardacademy.org
SUMMARY:TCBA's Food Coaching Program with Silver Connections\, LLC- Session #4
DESCRIPTION:Members of Silver Connections will take part in understanding more about managing chronic illnesses though Food preparation and Nutrition Education.
URL:https://cuttingboardacademy.org/event/cooking-live-with-pnc-fairfax-connection-and-the-cutting-board-academy-2-copy-2-copy-copy-copy-copy-copy-copy-copy-2-copy-2-copy-copy-copy-2-copy-copy-copy/
CATEGORIES:EVENTS CALENDAR
END:VEVENT
BEGIN:VEVENT
DTSTART;TZID=America/New_York:20230309T120000
DTEND;TZID=America/New_York:20230309T140000
DTSTAMP:20260419T203637
CREATED:20230405T153109Z
LAST-MODIFIED:20230405T153241Z
UID:37710-1678363200-1678370400@cuttingboardacademy.org
SUMMARY:TCBA's Food Coaching Program with Silver Connections\, LLC- Session #3
DESCRIPTION:Members of Silver Connections will take part in understanding more about managing chronic illnesses though Food preparation and Nutrition Education.
URL:https://cuttingboardacademy.org/event/cooking-live-with-pnc-fairfax-connection-and-the-cutting-board-academy-2-copy-2-copy-copy-copy-copy-copy-copy-copy-2-copy-2-copy-copy-copy-2-copy-copy/
CATEGORIES:EVENTS CALENDAR
END:VEVENT
BEGIN:VEVENT
DTSTART;TZID=America/New_York:20230302T120000
DTEND;TZID=America/New_York:20230302T140000
DTSTAMP:20260419T203637
CREATED:20230405T152814Z
LAST-MODIFIED:20230405T153030Z
UID:37709-1677758400-1677765600@cuttingboardacademy.org
SUMMARY:TCBA's Food Coaching Program with Silver Connections\, LLC- Session #2
DESCRIPTION:Members of Silver Connections will take part in understanding more about managing chronic illnesses though Food preparation and Nutrition Education.
URL:https://cuttingboardacademy.org/event/cooking-live-with-pnc-fairfax-connection-and-the-cutting-board-academy-2-copy-2-copy-copy-copy-copy-copy-copy-copy-2-copy-2-copy-copy-copy-2-copy/
CATEGORIES:EVENTS CALENDAR
END:VEVENT
BEGIN:VEVENT
DTSTART;TZID=America/New_York:20230226T130000
DTEND;TZID=America/New_York:20230226T150000
DTSTAMP:20260419T203637
CREATED:20230203T041811Z
LAST-MODIFIED:20230203T044357Z
UID:37701-1677416400-1677423600@cuttingboardacademy.org
SUMMARY:A Celebration of Food with Jack and Jill of America Inc.\, Cleveland Chapter and The Karamu House
DESCRIPTION:Attendees will take part in a special Black History Month Food Demonstration.
URL:https://cuttingboardacademy.org/event/cooking-live-with-pnc-fairfax-connection-and-the-cutting-board-academy-2-copy-2-copy-copy-copy-copy-copy-copy-copy-2-copy-2-copy-copy-copy/
CATEGORIES:EVENTS CALENDAR
END:VEVENT
BEGIN:VEVENT
DTSTART;TZID=America/New_York:20230223T120000
DTEND;TZID=America/New_York:20230223T140000
DTSTAMP:20260419T203637
CREATED:20230203T044428Z
LAST-MODIFIED:20230203T044957Z
UID:37703-1677153600-1677160800@cuttingboardacademy.org
SUMMARY:TCBA's Food Coaching Program Kick-Off with Silver Connections\, LLC- Session #1
DESCRIPTION:Members of Silver Connections will take part in understanding more about managing chronic illnesses though Food preparation and Nutrition Education.
URL:https://cuttingboardacademy.org/event/cooking-live-with-pnc-fairfax-connection-and-the-cutting-board-academy-2-copy-2-copy-copy-copy-copy-copy-copy-copy-2-copy-2-copy-copy-copy-2/
CATEGORIES:EVENTS CALENDAR
END:VEVENT
BEGIN:VEVENT
DTSTART;TZID=America/New_York:20230222T173000
DTEND;TZID=America/New_York:20230222T193000
DTSTAMP:20260419T203637
CREATED:20230203T040308Z
LAST-MODIFIED:20230203T040456Z
UID:37697-1677087000-1677094200@cuttingboardacademy.org
SUMMARY:Cooking LIVE with PNC Fairfax Connection and The Cutting Board Academy
DESCRIPTION:Topic: Southern Comfort Meals
URL:https://cuttingboardacademy.org/event/cooking-live-with-pnc-fairfax-connection-and-the-cutting-board-academy-2-copy-2-copy-copy-copy-copy-copy-copy-copy-2-copy-2-copy-copy/
LOCATION:Virtual Workshop– Web Ex\, OH\, United States
CATEGORIES:EVENTS CALENDAR
END:VEVENT
BEGIN:VEVENT
DTSTART;TZID=America/New_York:20230209T130000
DTEND;TZID=America/New_York:20230209T170000
DTSTAMP:20260419T203637
CREATED:20230203T040655Z
LAST-MODIFIED:20230203T041544Z
UID:37699-1675947600-1675962000@cuttingboardacademy.org
SUMMARY:"Shake Off The Salt" with Cleveland Metropolitan School District- John Marshall High School- Open House Event
DESCRIPTION:Families of John Marshall High School students will learn about the benefits of reducing salt/sodium intake.
URL:https://cuttingboardacademy.org/event/cleveland-metropolitan-school-districts-summer-enrichment-program-session-1-workshops-copy-copy-copy-copy-copy-copy-copy-copy-copy-2-copy-2-copy-2-copy-2/
LOCATION:Newton D. Baker School
CATEGORIES:EVENTS CALENDAR
END:VEVENT
BEGIN:VEVENT
DTSTART;TZID=America/New_York:20230112T173000
DTEND;TZID=America/New_York:20230112T183000
DTSTAMP:20260419T203637
CREATED:20221227T033217Z
LAST-MODIFIED:20230203T040608Z
UID:37695-1673544600-1673548200@cuttingboardacademy.org
SUMMARY:Yoga + Food with My Village Yoga- Session 3
DESCRIPTION:Join us partnership with My Village Yoga\, LLC as we discuss and serve up Plant-based soups after each yoga session
URL:https://cuttingboardacademy.org/event/yoga-food-with-my-village-yoga-session-3/
LOCATION:Thurgood Marshall Recreation Center\, Cleveland\, OH
CATEGORIES:EVENTS CALENDAR
END:VEVENT
BEGIN:VEVENT
DTSTART;TZID=America/New_York:20221229T173000
DTEND;TZID=America/New_York:20221229T183000
DTSTAMP:20260419T203637
CREATED:20221227T032733Z
LAST-MODIFIED:20221227T032910Z
UID:37692-1672335000-1672338600@cuttingboardacademy.org
SUMMARY:Yoga + Food with My Village Yoga- Session 2
DESCRIPTION:Join us partnership with My Village Yoga\, LLC as we discuss and serve up Plant-based soups after each yoga session
URL:https://cuttingboardacademy.org/event/cleveland-metropolitan-school-districts-summer-enrichment-program-session-1-workshops-copy-copy-copy-copy-copy-copy-copy-copy-copy-2-copy-2-copy-2-copy-copy/
LOCATION:Thurgood Marshall Recreation Center\, Cleveland\, OH
CATEGORIES:EVENTS CALENDAR
END:VEVENT
BEGIN:VEVENT
DTSTART;TZID=America/New_York:20221227T173000
DTEND;TZID=America/New_York:20221227T183000
DTSTAMP:20260419T203637
CREATED:20221227T025823Z
LAST-MODIFIED:20221227T030546Z
UID:37689-1672162200-1672165800@cuttingboardacademy.org
SUMMARY:Yoga + Food with My Village Yoga
DESCRIPTION:Join us partnership with My Village Yoga\, LLC as we discuss and serve up Plant-based soups after each yoga session
URL:https://cuttingboardacademy.org/event/cleveland-metropolitan-school-districts-summer-enrichment-program-session-1-workshops-copy-copy-copy-copy-copy-copy-copy-copy-copy-2-copy-2-copy-2-copy/
LOCATION:Thurgood Marshall Recreation Center\, Cleveland\, OH
CATEGORIES:EVENTS CALENDAR
END:VEVENT
BEGIN:VEVENT
DTSTART;TZID=America/New_York:20221207T153000
DTEND;TZID=America/New_York:20221207T163000
DTSTAMP:20260419T203637
CREATED:20221008T144654Z
LAST-MODIFIED:20221103T012557Z
UID:37685-1670427000-1670430600@cuttingboardacademy.org
SUMMARY:"Shake Off The Salt" with Cleveland Metropolitan School District- Parent Ambassadors of Newton D. Baker School
DESCRIPTION:Families of Newton D. Baker students will learn about the benefits of reducing salt/sodium intake.
URL:https://cuttingboardacademy.org/event/cleveland-metropolitan-school-districts-summer-enrichment-program-session-1-workshops-copy-copy-copy-copy-copy-copy-copy-copy-copy-2-copy-2-copy-2/
LOCATION:Newton D. Baker School
CATEGORIES:EVENTS CALENDAR
END:VEVENT
BEGIN:VEVENT
DTSTART;TZID=America/New_York:20220927T173000
DTEND;TZID=America/New_York:20220927T193000
DTSTAMP:20260419T203637
CREATED:20220920T171512Z
LAST-MODIFIED:20220920T171715Z
UID:37683-1664299800-1664307000@cuttingboardacademy.org
SUMMARY:Cooking LIVE with PNC Fairfax Connection and The Cutting Board Academy
DESCRIPTION:Topic: Twice Baked Sweet Potatoes (Baked Sweet Potato Bar)
URL:https://cuttingboardacademy.org/event/cooking-live-with-pnc-fairfax-connection-and-the-cutting-board-academy-2-copy-2-copy-copy-copy-copy-copy-copy-copy-2-copy-2-copy/
LOCATION:Virtual Workshop– Web Ex\, OH\, United States
CATEGORIES:EVENTS CALENDAR
END:VEVENT
BEGIN:VEVENT
DTSTART;TZID=America/New_York:20220725T130000
DTEND;TZID=America/New_York:20220725T150000
DTSTAMP:20260419T203637
CREATED:20220705T233644Z
LAST-MODIFIED:20220705T233753Z
UID:37678-1658754000-1658761200@cuttingboardacademy.org
SUMMARY:"Ultimate Stuffed Pasta" with The Girl Scouts of Northeast Ohio
DESCRIPTION:  \n 
URL:https://cuttingboardacademy.org/event/you-had-me-at-churro-with-the-girl-scouts-of-northeast-ohio-copy-3-copy-2-copy-copy-2-copy-2-copy-3-copy-copy-copy-copy-2-copy-copy-copy/
LOCATION:Camp Ledgewood\, 7047 Akron Peninsula Road\, Peninsula\, OH\, United States
CATEGORIES:EVENTS CALENDAR,The Girl Scouts of Northeast Ohio
END:VEVENT
BEGIN:VEVENT
DTSTART;TZID=America/New_York:20220719T110000
DTEND;TZID=America/New_York:20220719T123000
DTSTAMP:20260419T203637
CREATED:20220423T161001Z
LAST-MODIFIED:20220705T231519Z
UID:37672-1658228400-1658233800@cuttingboardacademy.org
SUMMARY:"Shake Off The Salt" with The Cleveland Metropolitan School District's Summer Enrichment Program- Session #3
DESCRIPTION:The Cutting Board Academy will be providing weekly Food and Nutrition workshops for the families of CMSD students every Thursday starting July 14.
URL:https://cuttingboardacademy.org/event/cleveland-metropolitan-school-districts-summer-enrichment-program-session-1-workshops-copy-copy-copy-copy-copy-copy-copy-copy-copy-2/
LOCATION:Newton D. Baker School
CATEGORIES:EVENTS CALENDAR
END:VEVENT
BEGIN:VEVENT
DTSTART;TZID=America/New_York:20220718T130000
DTEND;TZID=America/New_York:20220718T150000
DTSTAMP:20260419T203637
CREATED:20220423T153733Z
LAST-MODIFIED:20220705T233549Z
UID:37666-1658149200-1658156400@cuttingboardacademy.org
SUMMARY:"You Had Me At Churro" with The Girl Scouts of Northeast Ohio
DESCRIPTION:  \n 
URL:https://cuttingboardacademy.org/event/you-had-me-at-churro-with-the-girl-scouts-of-northeast-ohio-copy-3-copy-2-copy-copy-2-copy-2-copy-3-copy-copy-copy-copy-2-copy-copy/
LOCATION:Camp Ledgewood\, 7047 Akron Peninsula Road\, Peninsula\, OH\, United States
CATEGORIES:EVENTS CALENDAR,The Girl Scouts of Northeast Ohio
END:VEVENT
BEGIN:VEVENT
DTSTART;TZID=America/New_York:20220714T130000
DTEND;TZID=America/New_York:20220714T150000
DTSTAMP:20260419T203637
CREATED:20220705T234436Z
LAST-MODIFIED:20220705T234539Z
UID:37682-1657803600-1657810800@cuttingboardacademy.org
SUMMARY:"Food Chat" with The Cleveland Metropolitan School District's Summer Enrichment Program- Session #2
DESCRIPTION:The Cutting Board Academy will be providing weekly Food and Nutrition workshops for the families of CMSD students every Thursday starting July 14.
URL:https://cuttingboardacademy.org/event/cleveland-metropolitan-school-districts-summer-enrichment-program-session-1-workshops-copy-copy-copy-copy-copy-copy-copy-copy-copy-2-copy-2-copy/
LOCATION:Newton D. Baker School
CATEGORIES:EVENTS CALENDAR
END:VEVENT
END:VCALENDAR